BEGIN:VCALENDAR
VERSION:2.0
PRODID:-//Mairie de Grièges - ECPv6.15.12.2//NONSGML v1.0//EN
CALSCALE:GREGORIAN
METHOD:PUBLISH
X-ORIGINAL-URL:https://mairie-grieges.francelink.fr
X-WR-CALDESC:Évènements pour Mairie de Grièges
REFRESH-INTERVAL;VALUE=DURATION:PT1H
X-Robots-Tag:noindex
X-PUBLISHED-TTL:PT1H
BEGIN:VTIMEZONE
TZID:Europe/Paris
BEGIN:DAYLIGHT
TZOFFSETFROM:+0100
TZOFFSETTO:+0200
TZNAME:CEST
DTSTART:20250330T010000
END:DAYLIGHT
BEGIN:STANDARD
TZOFFSETFROM:+0200
TZOFFSETTO:+0100
TZNAME:CET
DTSTART:20251026T010000
END:STANDARD
BEGIN:DAYLIGHT
TZOFFSETFROM:+0100
TZOFFSETTO:+0200
TZNAME:CEST
DTSTART:20260329T010000
END:DAYLIGHT
BEGIN:STANDARD
TZOFFSETFROM:+0200
TZOFFSETTO:+0100
TZNAME:CET
DTSTART:20261025T010000
END:STANDARD
BEGIN:DAYLIGHT
TZOFFSETFROM:+0100
TZOFFSETTO:+0200
TZNAME:CEST
DTSTART:20270328T010000
END:DAYLIGHT
BEGIN:STANDARD
TZOFFSETFROM:+0200
TZOFFSETTO:+0100
TZNAME:CET
DTSTART:20271031T010000
END:STANDARD
END:VTIMEZONE
BEGIN:VEVENT
DTSTART;VALUE=DATE:20260301
DTEND;VALUE=DATE:20260302
DTSTAMP:20260420T144557
CREATED:20260126T095915Z
LAST-MODIFIED:20260126T095915Z
UID:1890-1772323200-1772409599@mairie-grieges.francelink.fr
SUMMARY:Matefaims
DESCRIPTION:
URL:https://mairie-grieges.francelink.fr/event/matefaims/
LOCATION:salle polyvalente
END:VEVENT
BEGIN:VEVENT
DTSTART;VALUE=DATE:20260301
DTEND;VALUE=DATE:20260302
DTSTAMP:20260420T144557
CREATED:20260126T095939Z
LAST-MODIFIED:20260126T095939Z
UID:1892-1772323200-1772409599@mairie-grieges.francelink.fr
SUMMARY:Brocante de la Société de Pêche
DESCRIPTION:
URL:https://mairie-grieges.francelink.fr/event/brocante-de-la-societe-de-peche/
END:VEVENT
END:VCALENDAR