BEGIN:VCALENDAR
VERSION:2.0
PRODID:-//Mairie de Grièges - ECPv6.15.12.2//NONSGML v1.0//EN
CALSCALE:GREGORIAN
METHOD:PUBLISH
X-ORIGINAL-URL:https://mairie-grieges.francelink.fr
X-WR-CALDESC:Évènements pour Mairie de Grièges
REFRESH-INTERVAL;VALUE=DURATION:PT1H
X-Robots-Tag:noindex
X-PUBLISHED-TTL:PT1H
BEGIN:VTIMEZONE
TZID:Europe/Paris
BEGIN:DAYLIGHT
TZOFFSETFROM:+0100
TZOFFSETTO:+0200
TZNAME:CEST
DTSTART:20250330T010000
END:DAYLIGHT
BEGIN:STANDARD
TZOFFSETFROM:+0200
TZOFFSETTO:+0100
TZNAME:CET
DTSTART:20251026T010000
END:STANDARD
BEGIN:DAYLIGHT
TZOFFSETFROM:+0100
TZOFFSETTO:+0200
TZNAME:CEST
DTSTART:20260329T010000
END:DAYLIGHT
BEGIN:STANDARD
TZOFFSETFROM:+0200
TZOFFSETTO:+0100
TZNAME:CET
DTSTART:20261025T010000
END:STANDARD
BEGIN:DAYLIGHT
TZOFFSETFROM:+0100
TZOFFSETTO:+0200
TZNAME:CEST
DTSTART:20270328T010000
END:DAYLIGHT
BEGIN:STANDARD
TZOFFSETFROM:+0200
TZOFFSETTO:+0100
TZNAME:CET
DTSTART:20271031T010000
END:STANDARD
END:VTIMEZONE
BEGIN:VEVENT
DTSTART;TZID=Europe/Paris:20260911T203000
DTEND;TZID=Europe/Paris:20260911T230000
DTSTAMP:20260420T131631
CREATED:20260126T104630Z
LAST-MODIFIED:20260126T104630Z
UID:2010-1789158600-1789167600@mairie-grieges.francelink.fr
SUMMARY:AG du Restaurant Scolaire
DESCRIPTION:
URL:https://mairie-grieges.francelink.fr/event/ag-du-restaurant-scolaire/
LOCATION:salle n°3
END:VEVENT
BEGIN:VEVENT
DTSTART;TZID=Europe/Paris:20260914T150000
DTEND;TZID=Europe/Paris:20260914T190000
DTSTAMP:20260420T131631
CREATED:20260126T104710Z
LAST-MODIFIED:20260126T104710Z
UID:2012-1789398000-1789412400@mairie-grieges.francelink.fr
SUMMARY:Don du sang
DESCRIPTION:
URL:https://mairie-grieges.francelink.fr/event/don-du-sang-3/
LOCATION:salle annexe de Pont-de-Veyle
END:VEVENT
BEGIN:VEVENT
DTSTART;TZID=Europe/Paris:20260918T203000
DTEND;TZID=Europe/Paris:20260918T230000
DTSTAMP:20260420T131631
CREATED:20260126T104745Z
LAST-MODIFIED:20260126T104745Z
UID:2014-1789763400-1789772400@mairie-grieges.francelink.fr
SUMMARY:AG du Sou des écoles
DESCRIPTION:
URL:https://mairie-grieges.francelink.fr/event/ag-du-sou-des-ecoles/
LOCATION:salle n°3
END:VEVENT
BEGIN:VEVENT
DTSTART;VALUE=DATE:20260926
DTEND;VALUE=DATE:20260927
DTSTAMP:20260420T131631
CREATED:20260126T104816Z
LAST-MODIFIED:20260126T104816Z
UID:2016-1790380800-1790467199@mairie-grieges.francelink.fr
SUMMARY:Kermesse de la MARPA
DESCRIPTION:
URL:https://mairie-grieges.francelink.fr/event/kermesse-de-la-marpa/
LOCATION:MARPA
END:VEVENT
BEGIN:VEVENT
DTSTART;TZID=Europe/Paris:20260926T103000
DTEND;TZID=Europe/Paris:20260926T120000
DTSTAMP:20260420T131631
CREATED:20260126T104939Z
LAST-MODIFIED:20260126T104939Z
UID:2020-1790418600-1790424000@mairie-grieges.francelink.fr
SUMMARY:AG Familles Rurales
DESCRIPTION:
URL:https://mairie-grieges.francelink.fr/event/ag-familles-rurales/
LOCATION:salle à l’étage
END:VEVENT
BEGIN:VEVENT
DTSTART;VALUE=DATE:20260927
DTEND;VALUE=DATE:20260928
DTSTAMP:20260420T131631
CREATED:20260126T105011Z
LAST-MODIFIED:20260126T105011Z
UID:2023-1790467200-1790553599@mairie-grieges.francelink.fr
SUMMARY:Vide-dressing Familles Rurales et vente à emporter
DESCRIPTION:
URL:https://mairie-grieges.francelink.fr/event/vide-dressing-familles-rurales-et-vente-a-emporter/
LOCATION:salle polyvalente
END:VEVENT
BEGIN:VEVENT
DTSTART;VALUE=DATE:20261001
DTEND;VALUE=DATE:20261002
DTSTAMP:20260420T131631
CREATED:20260126T105041Z
LAST-MODIFIED:20260126T105041Z
UID:2025-1790812800-1790899199@mairie-grieges.francelink.fr
SUMMARY:AG Veyl'O
DESCRIPTION:
URL:https://mairie-grieges.francelink.fr/event/ag-veylo/
LOCATION:salle n°3
END:VEVENT
BEGIN:VEVENT
DTSTART;VALUE=DATE:20261006
DTEND;VALUE=DATE:20261007
DTSTAMP:20260420T131631
CREATED:20260126T105123Z
LAST-MODIFIED:20260126T105123Z
UID:2027-1791244800-1791331199@mairie-grieges.francelink.fr
SUMMARY:AG de l'APEL
DESCRIPTION:
URL:https://mairie-grieges.francelink.fr/event/ag-de-lapel/
LOCATION:à l’école
END:VEVENT
BEGIN:VEVENT
DTSTART;TZID=Europe/Paris:20261010T133000
DTEND;TZID=Europe/Paris:20261010T143000
DTSTAMP:20260420T131631
CREATED:20260126T105647Z
LAST-MODIFIED:20260126T105647Z
UID:2044-1791639000-1791642600@mairie-grieges.francelink.fr
SUMMARY:AG Club de l'Amitié
DESCRIPTION:
URL:https://mairie-grieges.francelink.fr/event/ag-club-de-lamitie/
LOCATION:salle polyvalente
END:VEVENT
BEGIN:VEVENT
DTSTART;VALUE=DATE:20261011
DTEND;VALUE=DATE:20261012
DTSTAMP:20260420T131631
CREATED:20260126T105151Z
LAST-MODIFIED:20260126T105151Z
UID:2029-1791676800-1791763199@mairie-grieges.francelink.fr
SUMMARY:Puces des couturières Cantonaide
DESCRIPTION:
URL:https://mairie-grieges.francelink.fr/event/puces-des-couturieres-cantonaide/
LOCATION:Laiz
END:VEVENT
BEGIN:VEVENT
DTSTART;VALUE=DATE:20261016
DTEND;VALUE=DATE:20261017
DTSTAMP:20260420T131631
CREATED:20260126T105218Z
LAST-MODIFIED:20260126T105218Z
UID:2031-1792108800-1792195199@mairie-grieges.francelink.fr
SUMMARY:Boum d'Halloween du Sou des Ecoles et vente à emporter
DESCRIPTION:
URL:https://mairie-grieges.francelink.fr/event/boum-dhalloween-du-sou-des-ecoles-et-vente-a-emporter/
LOCATION:salle polyvalente
END:VEVENT
BEGIN:VEVENT
DTSTART;VALUE=DATE:20261018
DTEND;VALUE=DATE:20261019
DTSTAMP:20260420T131631
CREATED:20260126T105237Z
LAST-MODIFIED:20260126T105237Z
UID:2033-1792281600-1792367999@mairie-grieges.francelink.fr
SUMMARY:Brocante musicale ATAZIK
DESCRIPTION:
URL:https://mairie-grieges.francelink.fr/event/brocante-musicale-atazik/
END:VEVENT
BEGIN:VEVENT
DTSTART;TZID=Europe/Paris:20261023T203000
DTEND;TZID=Europe/Paris:20261023T230000
DTSTAMP:20260420T131631
CREATED:20260126T105310Z
LAST-MODIFIED:20260126T105310Z
UID:2035-1792787400-1792796400@mairie-grieges.francelink.fr
SUMMARY:AG du Comité des Fêtes
DESCRIPTION:
URL:https://mairie-grieges.francelink.fr/event/ag-du-comite-des-fetes/
LOCATION:salle n°3
END:VEVENT
BEGIN:VEVENT
DTSTART;VALUE=DATE:20261024
DTEND;VALUE=DATE:20261025
DTSTAMP:20260420T131631
CREATED:20260126T105346Z
LAST-MODIFIED:20260126T105346Z
UID:2037-1792800000-1792886399@mairie-grieges.francelink.fr
SUMMARY:Concours carnassier
DESCRIPTION:
URL:https://mairie-grieges.francelink.fr/event/concours-carnassier/
LOCATION:lac de Cormoranche
END:VEVENT
BEGIN:VEVENT
DTSTART;TZID=Europe/Paris:20261031T200000
DTEND;TZID=Europe/Paris:20261031T230000
DTSTAMP:20260420T131631
CREATED:20260126T105430Z
LAST-MODIFIED:20260126T105430Z
UID:2040-1793476800-1793487600@mairie-grieges.francelink.fr
SUMMARY:Loto Gourmand de l'Amicale Boule
DESCRIPTION:
URL:https://mairie-grieges.francelink.fr/event/loto-gourmand-de-lamicale-boule/
LOCATION:salle polyvalente
END:VEVENT
BEGIN:VEVENT
DTSTART;VALUE=DATE:20261108
DTEND;VALUE=DATE:20261109
DTSTAMP:20260420T131631
CREATED:20260126T105553Z
LAST-MODIFIED:20260126T105553Z
UID:2042-1794096000-1794182399@mairie-grieges.francelink.fr
SUMMARY:Randonnée VTT des Cimes de Juliénas
DESCRIPTION:
URL:https://mairie-grieges.francelink.fr/event/randonnee-vtt-des-cimes-de-julienas/
END:VEVENT
BEGIN:VEVENT
DTSTART;TZID=Europe/Paris:20261113T190000
DTEND;TZID=Europe/Paris:20261113T230000
DTSTAMP:20260420T131631
CREATED:20260126T105741Z
LAST-MODIFIED:20260126T105912Z
UID:2046-1794596400-1794610800@mairie-grieges.francelink.fr
SUMMARY:AG du Comité de Jumelage
DESCRIPTION:
URL:https://mairie-grieges.francelink.fr/event/ag-du-comite-de-jumelage/
END:VEVENT
BEGIN:VEVENT
DTSTART;VALUE=DATE:20261114
DTEND;VALUE=DATE:20261115
DTSTAMP:20260420T131631
CREATED:20260126T105935Z
LAST-MODIFIED:20260126T105935Z
UID:2048-1794614400-1794700799@mairie-grieges.francelink.fr
SUMMARY:Veyl'O Choucroute
DESCRIPTION:
URL:https://mairie-grieges.francelink.fr/event/veylo-choucroute/
END:VEVENT
BEGIN:VEVENT
DTSTART;TZID=Europe/Paris:20261120T190000
DTEND;TZID=Europe/Paris:20261120T230000
DTSTAMP:20260420T131631
CREATED:20260126T110009Z
LAST-MODIFIED:20260126T110009Z
UID:2050-1795201200-1795215600@mairie-grieges.francelink.fr
SUMMARY:AG de l’Amicale Boule
DESCRIPTION:
URL:https://mairie-grieges.francelink.fr/event/ag-de-lamicale-boule/
LOCATION:salle n°3
END:VEVENT
BEGIN:VEVENT
DTSTART;VALUE=DATE:20261204
DTEND;VALUE=DATE:20261205
DTSTAMP:20260420T131631
CREATED:20260126T110143Z
LAST-MODIFIED:20260126T110143Z
UID:2052-1796342400-1796428799@mairie-grieges.francelink.fr
SUMMARY:Vente de sapins de l'APEL
DESCRIPTION:
URL:https://mairie-grieges.francelink.fr/event/vente-de-sapins-de-lapel/
LOCATION:à l’école
END:VEVENT
BEGIN:VEVENT
DTSTART;TZID=Europe/Paris:20261204T203000
DTEND;TZID=Europe/Paris:20261204T230000
DTSTAMP:20260420T131631
CREATED:20260126T110221Z
LAST-MODIFIED:20260126T110221Z
UID:2054-1796416200-1796425200@mairie-grieges.francelink.fr
SUMMARY:AG du Club Cyclo
DESCRIPTION:
URL:https://mairie-grieges.francelink.fr/event/ag-du-club-cyclo/
LOCATION:salle n°3
END:VEVENT
BEGIN:VEVENT
DTSTART;VALUE=DATE:20261206
DTEND;VALUE=DATE:20261207
DTSTAMP:20260420T131631
CREATED:20260126T110244Z
LAST-MODIFIED:20260126T110244Z
UID:2056-1796515200-1796601599@mairie-grieges.francelink.fr
SUMMARY:Matinée Boudin et boulettes Société de Chasse
DESCRIPTION:
URL:https://mairie-grieges.francelink.fr/event/matinee-boudin-et-boulettes-societe-de-chasse/
END:VEVENT
BEGIN:VEVENT
DTSTART;TZID=Europe/Paris:20261207T150000
DTEND;TZID=Europe/Paris:20261207T190000
DTSTAMP:20260420T131631
CREATED:20260126T110318Z
LAST-MODIFIED:20260126T110318Z
UID:2058-1796655600-1796670000@mairie-grieges.francelink.fr
SUMMARY:Don du sang
DESCRIPTION:
URL:https://mairie-grieges.francelink.fr/event/don-du-sang-4/
LOCATION:salle annexe de Pont-de-Veyle
END:VEVENT
BEGIN:VEVENT
DTSTART;VALUE=DATE:20261211
DTEND;VALUE=DATE:20261212
DTSTAMP:20260420T131631
CREATED:20260126T110342Z
LAST-MODIFIED:20260126T110342Z
UID:2060-1796947200-1797033599@mairie-grieges.francelink.fr
SUMMARY:Fête de Noël du Groupe Scolaire et Vente de chocolats
DESCRIPTION:
URL:https://mairie-grieges.francelink.fr/event/fete-de-noel-du-groupe-scolaire-et-vente-de-chocolats/
LOCATION:salle polyvalente
END:VEVENT
BEGIN:VEVENT
DTSTART;TZID=Europe/Paris:20261217T080000
DTEND;TZID=Europe/Paris:20261217T170000
DTSTAMP:20260420T131631
CREATED:20260126T110426Z
LAST-MODIFIED:20260126T110426Z
UID:2062-1797494400-1797526800@mairie-grieges.francelink.fr
SUMMARY:Ouverture de la crèche
DESCRIPTION:
URL:https://mairie-grieges.francelink.fr/event/ouverture-de-la-creche/
LOCATION:chapelle St Gengoult
END:VEVENT
BEGIN:VEVENT
DTSTART;VALUE=DATE:20261218
DTEND;VALUE=DATE:20261219
DTSTAMP:20260420T131631
CREATED:20260126T110530Z
LAST-MODIFIED:20260126T110530Z
UID:2064-1797552000-1797638399@mairie-grieges.francelink.fr
SUMMARY:Fête de Noël de l'école Ste Thérèse
DESCRIPTION:
URL:https://mairie-grieges.francelink.fr/event/fete-de-noel-de-lecole-ste-therese/
LOCATION:salle polyvalente
END:VEVENT
BEGIN:VEVENT
DTSTART;VALUE=DATE:20261219
DTEND;VALUE=DATE:20261220
DTSTAMP:20260420T131631
CREATED:20260126T110623Z
LAST-MODIFIED:20260126T110623Z
UID:2066-1797638400-1797724799@mairie-grieges.francelink.fr
SUMMARY:Vente de truffes par l'AJG
DESCRIPTION:
URL:https://mairie-grieges.francelink.fr/event/vente-de-truffes-par-lajg/
END:VEVENT
END:VCALENDAR