BEGIN:VCALENDAR
VERSION:2.0
PRODID:-//Mairie de Grièges - ECPv6.15.12.2//NONSGML v1.0//EN
CALSCALE:GREGORIAN
METHOD:PUBLISH
X-ORIGINAL-URL:https://mairie-grieges.francelink.fr
X-WR-CALDESC:Évènements pour Mairie de Grièges
REFRESH-INTERVAL;VALUE=DURATION:PT1H
X-Robots-Tag:noindex
X-PUBLISHED-TTL:PT1H
BEGIN:VTIMEZONE
TZID:Europe/Paris
BEGIN:DAYLIGHT
TZOFFSETFROM:+0100
TZOFFSETTO:+0200
TZNAME:CEST
DTSTART:20250330T010000
END:DAYLIGHT
BEGIN:STANDARD
TZOFFSETFROM:+0200
TZOFFSETTO:+0100
TZNAME:CET
DTSTART:20251026T010000
END:STANDARD
BEGIN:DAYLIGHT
TZOFFSETFROM:+0100
TZOFFSETTO:+0200
TZNAME:CEST
DTSTART:20260329T010000
END:DAYLIGHT
BEGIN:STANDARD
TZOFFSETFROM:+0200
TZOFFSETTO:+0100
TZNAME:CET
DTSTART:20261025T010000
END:STANDARD
BEGIN:DAYLIGHT
TZOFFSETFROM:+0100
TZOFFSETTO:+0200
TZNAME:CEST
DTSTART:20270328T010000
END:DAYLIGHT
BEGIN:STANDARD
TZOFFSETFROM:+0200
TZOFFSETTO:+0100
TZNAME:CET
DTSTART:20271031T010000
END:STANDARD
END:VTIMEZONE
BEGIN:VEVENT
DTSTART;VALUE=DATE:20260103
DTEND;VALUE=DATE:20260104
DTSTAMP:20260423T093723
CREATED:20260126T094128Z
LAST-MODIFIED:20260126T103704Z
UID:1847-1767398400-1767484799@mairie-grieges.francelink.fr
SUMMARY:Belote de l'Amicale Boule
DESCRIPTION:
URL:https://mairie-grieges.francelink.fr/event/belote-de-lamicale-boule/
LOCATION:salle polyvalente
ATTACH;FMTTYPE=image/jpeg:https://mairie-grieges.francelink.fr/wp-content/uploads/2026/01/BELOTE.jpg
END:VEVENT
BEGIN:VEVENT
DTSTART;TZID=Europe/Paris:20260109T200000
DTEND;TZID=Europe/Paris:20260109T230000
DTSTAMP:20260423T093723
CREATED:20260126T094304Z
LAST-MODIFIED:20260126T094304Z
UID:1850-1767988800-1767999600@mairie-grieges.francelink.fr
SUMMARY:Vœux de la Municipalité
DESCRIPTION:
URL:https://mairie-grieges.francelink.fr/event/voeux-de-la-municipalite/
LOCATION:salle polyvalente
END:VEVENT
BEGIN:VEVENT
DTSTART;VALUE=DATE:20260110
DTEND;VALUE=DATE:20260111
DTSTAMP:20260423T093723
CREATED:20260126T094329Z
LAST-MODIFIED:20260126T094628Z
UID:1852-1768003200-1768089599@mairie-grieges.francelink.fr
SUMMARY:Repas des Ainés
DESCRIPTION:
URL:https://mairie-grieges.francelink.fr/event/repas-des-aines/
LOCATION:salle polyvalente
END:VEVENT
BEGIN:VEVENT
DTSTART;VALUE=DATE:20260110
DTEND;VALUE=DATE:20260112
DTSTAMP:20260423T093723
CREATED:20260126T094551Z
LAST-MODIFIED:20260126T104026Z
UID:1856-1768003200-1768175999@mairie-grieges.francelink.fr
SUMMARY:Loto de l'ASGPV
DESCRIPTION:
URL:https://mairie-grieges.francelink.fr/event/loto-de-lasgpv/
LOCATION:Laiz
ATTACH;FMTTYPE=image/jpeg:https://mairie-grieges.francelink.fr/wp-content/uploads/2026/01/LOTO-Laiz-2026.jpg
END:VEVENT
BEGIN:VEVENT
DTSTART;VALUE=DATE:20260122
DTEND;VALUE=DATE:20260123
DTSTAMP:20260423T093723
CREATED:20260126T094807Z
LAST-MODIFIED:20260126T094807Z
UID:1859-1769040000-1769126399@mairie-grieges.francelink.fr
SUMMARY:AG du Comité de Fleurissement
DESCRIPTION:
URL:https://mairie-grieges.francelink.fr/event/ag-du-comite-de-fleurissement/
END:VEVENT
BEGIN:VEVENT
DTSTART;TZID=Europe/Paris:20260124T100000
DTEND;TZID=Europe/Paris:20260124T120000
DTSTAMP:20260423T093723
CREATED:20260126T095038Z
LAST-MODIFIED:20260126T104144Z
UID:1865-1769248800-1769256000@mairie-grieges.francelink.fr
SUMMARY:Choucroute du Comité de Jumelage
DESCRIPTION:
URL:https://mairie-grieges.francelink.fr/event/choucroute-du-comite-de-jumelage/
LOCATION:marché couvert Pont-de-Veyle
ATTACH;FMTTYPE=image/jpeg:https://mairie-grieges.francelink.fr/wp-content/uploads/2026/01/affiche.jpg
END:VEVENT
BEGIN:VEVENT
DTSTART;TZID=Europe/Paris:20260124T180000
DTEND;TZID=Europe/Paris:20260124T190000
DTSTAMP:20260423T093723
CREATED:20260126T094838Z
LAST-MODIFIED:20260126T094838Z
UID:1861-1769277600-1769281200@mairie-grieges.francelink.fr
SUMMARY:Remise des cocardes
DESCRIPTION:
URL:https://mairie-grieges.francelink.fr/event/remise-des-cocardes/
END:VEVENT
BEGIN:VEVENT
DTSTART;TZID=Europe/Paris:20260124T200000
DTEND;TZID=Europe/Paris:20260124T233000
DTSTAMP:20260423T093723
CREATED:20260126T094930Z
LAST-MODIFIED:20260126T104232Z
UID:1863-1769284800-1769297400@mairie-grieges.francelink.fr
SUMMARY:Bal des 20 ans
DESCRIPTION:  \n 
URL:https://mairie-grieges.francelink.fr/event/bal-des-20-ans/
ATTACH;FMTTYPE=image/jpeg:https://mairie-grieges.francelink.fr/wp-content/uploads/2026/01/IMG-20251230-WA0006.jpg
END:VEVENT
BEGIN:VEVENT
DTSTART;VALUE=DATE:20260125
DTEND;VALUE=DATE:20260126
DTSTAMP:20260423T093723
CREATED:20260126T095104Z
LAST-MODIFIED:20260126T104314Z
UID:1868-1769299200-1769385599@mairie-grieges.francelink.fr
SUMMARY:Vente à emporter saucisson et tartiflette de l'ASGPV
DESCRIPTION:
URL:https://mairie-grieges.francelink.fr/event/vente-a-emporter-saucisson-et-tartiflette-de-lasgpv/
LOCATION:marché couvert Pont-de-Veyle
ATTACH;FMTTYPE=image/jpeg:https://mairie-grieges.francelink.fr/wp-content/uploads/2026/01/affiche-saucisson-2026.jpg
END:VEVENT
BEGIN:VEVENT
DTSTART;VALUE=DATE:20260130
DTEND;VALUE=DATE:20260131
DTSTAMP:20260423T093723
CREATED:20260126T095135Z
LAST-MODIFIED:20260126T095135Z
UID:1870-1769731200-1769817599@mairie-grieges.francelink.fr
SUMMARY:AG du Moto Club
DESCRIPTION:
URL:https://mairie-grieges.francelink.fr/event/ag-du-moto-club/
LOCATION:au circuit
END:VEVENT
END:VCALENDAR