BEGIN:VCALENDAR
VERSION:2.0
PRODID:-//Mairie de Grièges - ECPv6.15.12.2//NONSGML v1.0//EN
CALSCALE:GREGORIAN
METHOD:PUBLISH
X-ORIGINAL-URL:https://mairie-grieges.francelink.fr
X-WR-CALDESC:Évènements pour Mairie de Grièges
REFRESH-INTERVAL;VALUE=DURATION:PT1H
X-Robots-Tag:noindex
X-PUBLISHED-TTL:PT1H
BEGIN:VTIMEZONE
TZID:Europe/Paris
BEGIN:DAYLIGHT
TZOFFSETFROM:+0100
TZOFFSETTO:+0200
TZNAME:CEST
DTSTART:20250330T010000
END:DAYLIGHT
BEGIN:STANDARD
TZOFFSETFROM:+0200
TZOFFSETTO:+0100
TZNAME:CET
DTSTART:20251026T010000
END:STANDARD
BEGIN:DAYLIGHT
TZOFFSETFROM:+0100
TZOFFSETTO:+0200
TZNAME:CEST
DTSTART:20260329T010000
END:DAYLIGHT
BEGIN:STANDARD
TZOFFSETFROM:+0200
TZOFFSETTO:+0100
TZNAME:CET
DTSTART:20261025T010000
END:STANDARD
BEGIN:DAYLIGHT
TZOFFSETFROM:+0100
TZOFFSETTO:+0200
TZNAME:CEST
DTSTART:20270328T010000
END:DAYLIGHT
BEGIN:STANDARD
TZOFFSETFROM:+0200
TZOFFSETTO:+0100
TZNAME:CET
DTSTART:20271031T010000
END:STANDARD
END:VTIMEZONE
BEGIN:VEVENT
DTSTART;TZID=Europe/Paris:20260207T133000
DTEND;TZID=Europe/Paris:20260207T183000
DTSTAMP:20260420T131539
CREATED:20260126T095201Z
LAST-MODIFIED:20260130T151056Z
UID:1873-1770471000-1770489000@mairie-grieges.francelink.fr
SUMMARY:Belote du Comité de Fleurissement
DESCRIPTION:
URL:https://mairie-grieges.francelink.fr/event/belote-du-comite-de-fleurissement/
LOCATION:salle polyvalente
ATTACH;FMTTYPE=image/jpeg:https://mairie-grieges.francelink.fr/wp-content/uploads/2026/01/Concours-de-belote-2026-affichette.jpg
END:VEVENT
BEGIN:VEVENT
DTSTART;TZID=Europe/Paris:20260209T150000
DTEND;TZID=Europe/Paris:20260209T190000
DTSTAMP:20260420T131539
CREATED:20260126T095614Z
LAST-MODIFIED:20260126T095614Z
UID:1876-1770649200-1770663600@mairie-grieges.francelink.fr
SUMMARY:Don du sang à Pont-de-Veyle
DESCRIPTION:
URL:https://mairie-grieges.francelink.fr/event/don-du-sang-a-pont-de-veyle/
LOCATION:salle annexe de Pont-de-Veyle
END:VEVENT
BEGIN:VEVENT
DTSTART;TZID=Europe/Paris:20260215T100000
DTEND;TZID=Europe/Paris:20260215T120000
DTSTAMP:20260420T131539
CREATED:20260126T095714Z
LAST-MODIFIED:20260130T151249Z
UID:1880-1771149600-1771156800@mairie-grieges.francelink.fr
SUMMARY:AG de la Société de Pêche
DESCRIPTION:
URL:https://mairie-grieges.francelink.fr/event/ag-de-la-societe-de-peche/
LOCATION:salle n°3
END:VEVENT
BEGIN:VEVENT
DTSTART;VALUE=DATE:20260222
DTEND;VALUE=DATE:20260223
DTSTAMP:20260420T131539
CREATED:20260126T095810Z
LAST-MODIFIED:20260126T095810Z
UID:1883-1771718400-1771804799@mairie-grieges.francelink.fr
SUMMARY:Vente de tripes à l'ancienne des Pompiers
DESCRIPTION:
URL:https://mairie-grieges.francelink.fr/event/vente-de-tripes-a-lancienne-des-pompiers/
LOCATION:caserne de Cormoranche
END:VEVENT
BEGIN:VEVENT
DTSTART;VALUE=DATE:20260227
DTEND;VALUE=DATE:20260228
DTSTAMP:20260420T131539
CREATED:20260126T095833Z
LAST-MODIFIED:20260126T095833Z
UID:1886-1772150400-1772236799@mairie-grieges.francelink.fr
SUMMARY:Vente de fromage du Sou des Ecoles
DESCRIPTION:
URL:https://mairie-grieges.francelink.fr/event/vente-de-fromage-du-sou-des-ecoles/
LOCATION:salle polyvalente
END:VEVENT
BEGIN:VEVENT
DTSTART;VALUE=DATE:20260228
DTEND;VALUE=DATE:20260301
DTSTAMP:20260420T131539
CREATED:20260126T095854Z
LAST-MODIFIED:20260126T095854Z
UID:1888-1772236800-1772323199@mairie-grieges.francelink.fr
SUMMARY:Fête des classes en 6 et en 1
DESCRIPTION:
URL:https://mairie-grieges.francelink.fr/event/fete-des-classes-en-6-et-en-1/
LOCATION:salle polyvalente
END:VEVENT
END:VCALENDAR