BEGIN:VCALENDAR
VERSION:2.0
PRODID:-//Mairie de Grièges - ECPv6.15.12.2//NONSGML v1.0//EN
CALSCALE:GREGORIAN
METHOD:PUBLISH
X-WR-CALNAME:Mairie de Grièges
X-ORIGINAL-URL:https://mairie-grieges.francelink.fr
X-WR-CALDESC:Évènements pour Mairie de Grièges
REFRESH-INTERVAL;VALUE=DURATION:PT1H
X-Robots-Tag:noindex
X-PUBLISHED-TTL:PT1H
BEGIN:VTIMEZONE
TZID:Europe/Paris
BEGIN:DAYLIGHT
TZOFFSETFROM:+0100
TZOFFSETTO:+0200
TZNAME:CEST
DTSTART:20250330T010000
END:DAYLIGHT
BEGIN:STANDARD
TZOFFSETFROM:+0200
TZOFFSETTO:+0100
TZNAME:CET
DTSTART:20251026T010000
END:STANDARD
BEGIN:DAYLIGHT
TZOFFSETFROM:+0100
TZOFFSETTO:+0200
TZNAME:CEST
DTSTART:20260329T010000
END:DAYLIGHT
BEGIN:STANDARD
TZOFFSETFROM:+0200
TZOFFSETTO:+0100
TZNAME:CET
DTSTART:20261025T010000
END:STANDARD
BEGIN:DAYLIGHT
TZOFFSETFROM:+0100
TZOFFSETTO:+0200
TZNAME:CEST
DTSTART:20270328T010000
END:DAYLIGHT
BEGIN:STANDARD
TZOFFSETFROM:+0200
TZOFFSETTO:+0100
TZNAME:CET
DTSTART:20271031T010000
END:STANDARD
END:VTIMEZONE
BEGIN:VEVENT
DTSTART;VALUE=DATE:20260301
DTEND;VALUE=DATE:20260302
DTSTAMP:20260420T065739
CREATED:20260126T095915Z
LAST-MODIFIED:20260126T095915Z
UID:1890-1772323200-1772409599@mairie-grieges.francelink.fr
SUMMARY:Matefaims
DESCRIPTION:
URL:https://mairie-grieges.francelink.fr/event/matefaims/
LOCATION:salle polyvalente
END:VEVENT
BEGIN:VEVENT
DTSTART;VALUE=DATE:20260301
DTEND;VALUE=DATE:20260302
DTSTAMP:20260420T065739
CREATED:20260126T095939Z
LAST-MODIFIED:20260126T095939Z
UID:1892-1772323200-1772409599@mairie-grieges.francelink.fr
SUMMARY:Brocante de la Société de Pêche
DESCRIPTION:
URL:https://mairie-grieges.francelink.fr/event/brocante-de-la-societe-de-peche/
END:VEVENT
BEGIN:VEVENT
DTSTART;VALUE=DATE:20260308
DTEND;VALUE=DATE:20260309
DTSTAMP:20260420T065739
CREATED:20260126T095956Z
LAST-MODIFIED:20260126T095956Z
UID:1894-1772928000-1773014399@mairie-grieges.francelink.fr
SUMMARY:Spectacle Cabaret de la Ligue contre le Cancer
DESCRIPTION:
URL:https://mairie-grieges.francelink.fr/event/spectacle-cabaret-de-la-ligue-contre-le-cancer/
END:VEVENT
BEGIN:VEVENT
DTSTART;VALUE=DATE:20260314
DTEND;VALUE=DATE:20260315
DTSTAMP:20260420T065739
CREATED:20260126T100019Z
LAST-MODIFIED:20260126T100019Z
UID:1896-1773446400-1773532799@mairie-grieges.francelink.fr
SUMMARY:Fête des groupes ATAZIK
DESCRIPTION:
URL:https://mairie-grieges.francelink.fr/event/fete-des-groupes-atazik/
LOCATION:salle polyvalente
END:VEVENT
BEGIN:VEVENT
DTSTART;VALUE=DATE:20260314
DTEND;VALUE=DATE:20260315
DTSTAMP:20260420T065739
CREATED:20260126T100036Z
LAST-MODIFIED:20260126T100036Z
UID:1898-1773446400-1773532799@mairie-grieges.francelink.fr
SUMMARY:Ouverture de la truite
DESCRIPTION:
URL:https://mairie-grieges.francelink.fr/event/ouverture-de-la-truite/
END:VEVENT
BEGIN:VEVENT
DTSTART;VALUE=DATE:20260315
DTEND;VALUE=DATE:20260316
DTSTAMP:20260420T065739
CREATED:20260126T100053Z
LAST-MODIFIED:20260126T100053Z
UID:1900-1773532800-1773619199@mairie-grieges.francelink.fr
SUMMARY:Elections Municipales
DESCRIPTION:
URL:https://mairie-grieges.francelink.fr/event/elections-municipales/
END:VEVENT
BEGIN:VEVENT
DTSTART;VALUE=DATE:20260315
DTEND;VALUE=DATE:20260316
DTSTAMP:20260420T065739
CREATED:20260126T100142Z
LAST-MODIFIED:20260126T100142Z
UID:1902-1773532800-1773619199@mairie-grieges.francelink.fr
SUMMARY:Vente de crêpes de l'AJG
DESCRIPTION:
URL:https://mairie-grieges.francelink.fr/event/vente-de-crepes-de-lajg/
END:VEVENT
BEGIN:VEVENT
DTSTART;VALUE=DATE:20260322
DTEND;VALUE=DATE:20260323
DTSTAMP:20260420T065739
CREATED:20260126T100159Z
LAST-MODIFIED:20260126T110801Z
UID:1904-1774137600-1774223999@mairie-grieges.francelink.fr
SUMMARY:Elections Municipales
DESCRIPTION:
URL:https://mairie-grieges.francelink.fr/event/elections-municipales-2/
END:VEVENT
BEGIN:VEVENT
DTSTART;VALUE=DATE:20260322
DTEND;VALUE=DATE:20260323
DTSTAMP:20260420T065739
CREATED:20260126T100338Z
LAST-MODIFIED:20260126T100338Z
UID:1908-1774137600-1774223999@mairie-grieges.francelink.fr
SUMMARY:Troc vélo de l'association Veyl'O
DESCRIPTION:
URL:https://mairie-grieges.francelink.fr/event/troc-velo-de-lassociation-veylo/
LOCATION:marché couvert Pont-de-Veyle
END:VEVENT
BEGIN:VEVENT
DTSTART;TZID=Europe/Paris:20260322T080000
DTEND;TZID=Europe/Paris:20260322T170000
DTSTAMP:20260420T065739
CREATED:20260126T100310Z
LAST-MODIFIED:20260126T100310Z
UID:1906-1774166400-1774198800@mairie-grieges.francelink.fr
SUMMARY:Vente à emporter Team Abeille
DESCRIPTION:
URL:https://mairie-grieges.francelink.fr/event/vente-a-emporter-team-abeille/
LOCATION:salle polyvalente
END:VEVENT
BEGIN:VEVENT
DTSTART;VALUE=DATE:20260327
DTEND;VALUE=DATE:20260328
DTSTAMP:20260420T065739
CREATED:20260126T100454Z
LAST-MODIFIED:20260126T100454Z
UID:1913-1774569600-1774655999@mairie-grieges.francelink.fr
SUMMARY:Fête du Court-métrage
DESCRIPTION:
URL:https://mairie-grieges.francelink.fr/event/fete-du-court-metrage/
LOCATION:salle polyvalente
END:VEVENT
BEGIN:VEVENT
DTSTART;TZID=Europe/Paris:20260327T190000
DTEND;TZID=Europe/Paris:20260327T230000
DTSTAMP:20260420T065739
CREATED:20260126T100431Z
LAST-MODIFIED:20260126T103623Z
UID:1910-1774638000-1774652400@mairie-grieges.francelink.fr
SUMMARY:Soirée café-théâtre du Comité de Jumelage
DESCRIPTION:
URL:https://mairie-grieges.francelink.fr/event/soiree-cafe-theatre-du-comite-de-jumelage/
LOCATION:St-Jean-sur-Veyle
ATTACH;FMTTYPE=image/jpeg:https://mairie-grieges.francelink.fr/wp-content/uploads/2026/01/2026-affiche-cafe-theatre-bandeau.jpg
END:VEVENT
BEGIN:VEVENT
DTSTART;TZID=Europe/Paris:20260328T080000
DTEND;TZID=Europe/Paris:20260328T170000
DTSTAMP:20260420T065739
CREATED:20260126T100509Z
LAST-MODIFIED:20260126T100509Z
UID:1915-1774684800-1774717200@mairie-grieges.francelink.fr
SUMMARY:Nettoyage de printemps
DESCRIPTION:
URL:https://mairie-grieges.francelink.fr/event/nettoyage-de-printemps/
END:VEVENT
END:VCALENDAR