BEGIN:VCALENDAR
VERSION:2.0
PRODID:-//Mairie de Grièges - ECPv6.15.12.2//NONSGML v1.0//EN
CALSCALE:GREGORIAN
METHOD:PUBLISH
X-ORIGINAL-URL:https://mairie-grieges.francelink.fr
X-WR-CALDESC:Évènements pour Mairie de Grièges
REFRESH-INTERVAL;VALUE=DURATION:PT1H
X-Robots-Tag:noindex
X-PUBLISHED-TTL:PT1H
BEGIN:VTIMEZONE
TZID:Europe/Paris
BEGIN:DAYLIGHT
TZOFFSETFROM:+0100
TZOFFSETTO:+0200
TZNAME:CEST
DTSTART:20250330T010000
END:DAYLIGHT
BEGIN:STANDARD
TZOFFSETFROM:+0200
TZOFFSETTO:+0100
TZNAME:CET
DTSTART:20251026T010000
END:STANDARD
BEGIN:DAYLIGHT
TZOFFSETFROM:+0100
TZOFFSETTO:+0200
TZNAME:CEST
DTSTART:20260329T010000
END:DAYLIGHT
BEGIN:STANDARD
TZOFFSETFROM:+0200
TZOFFSETTO:+0100
TZNAME:CET
DTSTART:20261025T010000
END:STANDARD
BEGIN:DAYLIGHT
TZOFFSETFROM:+0100
TZOFFSETTO:+0200
TZNAME:CEST
DTSTART:20270328T010000
END:DAYLIGHT
BEGIN:STANDARD
TZOFFSETFROM:+0200
TZOFFSETTO:+0100
TZNAME:CET
DTSTART:20271031T010000
END:STANDARD
END:VTIMEZONE
BEGIN:VEVENT
DTSTART;TZID=Europe/Paris:20260606T133000
DTEND;TZID=Europe/Paris:20260606T183000
DTSTAMP:20260420T131510
CREATED:20260126T101448Z
LAST-MODIFIED:20260126T101448Z
UID:1950-1780752600-1780770600@mairie-grieges.francelink.fr
SUMMARY:Challenge Gaudinet 32D 4D
DESCRIPTION:
URL:https://mairie-grieges.francelink.fr/event/challenge-gaudinet-32d-4d/
LOCATION:boulodrome
END:VEVENT
BEGIN:VEVENT
DTSTART;VALUE=DATE:20260613
DTEND;VALUE=DATE:20260614
DTSTAMP:20260420T131510
CREATED:20260126T101514Z
LAST-MODIFIED:20260126T101514Z
UID:1953-1781308800-1781395199@mairie-grieges.francelink.fr
SUMMARY:Fête de l'association des Familles Rurales
DESCRIPTION:
URL:https://mairie-grieges.francelink.fr/event/fete-de-lassociation-des-familles-rurales/
LOCATION:salle polyvalente
END:VEVENT
BEGIN:VEVENT
DTSTART;VALUE=DATE:20260614
DTEND;VALUE=DATE:20260615
DTSTAMP:20260420T131510
CREATED:20260126T101555Z
LAST-MODIFIED:20260126T101555Z
UID:1955-1781395200-1781481599@mairie-grieges.francelink.fr
SUMMARY:Farfouille Cantonaide
DESCRIPTION:
URL:https://mairie-grieges.francelink.fr/event/farfouille-cantonaide/
LOCATION:Pont-de-Veyle
END:VEVENT
BEGIN:VEVENT
DTSTART;VALUE=DATE:20260614
DTEND;VALUE=DATE:20260615
DTSTAMP:20260420T131510
CREATED:20260126T101613Z
LAST-MODIFIED:20260126T101613Z
UID:1959-1781395200-1781481599@mairie-grieges.francelink.fr
SUMMARY:AG de la Société de Chasse
DESCRIPTION:
URL:https://mairie-grieges.francelink.fr/event/ag-de-la-societe-de-chasse/
END:VEVENT
BEGIN:VEVENT
DTSTART;VALUE=DATE:20260621
DTEND;VALUE=DATE:20260622
DTSTAMP:20260420T131510
CREATED:20260126T101652Z
LAST-MODIFIED:20260126T101652Z
UID:1961-1782000000-1782086399@mairie-grieges.francelink.fr
SUMMARY:Kermesse de l'école Ste Thérèse
DESCRIPTION:
URL:https://mairie-grieges.francelink.fr/event/kermesse-de-lecole-ste-therese/
LOCATION:à l’école
END:VEVENT
BEGIN:VEVENT
DTSTART;VALUE=DATE:20260621
DTEND;VALUE=DATE:20260622
DTSTAMP:20260420T131510
CREATED:20260126T101752Z
LAST-MODIFIED:20260126T101752Z
UID:1964-1782000000-1782086399@mairie-grieges.francelink.fr
SUMMARY:Marché aux puces de la Chapelle
DESCRIPTION:
URL:https://mairie-grieges.francelink.fr/event/marche-aux-puces-de-la-chapelle/
LOCATION:chapelle St Gengoult
END:VEVENT
BEGIN:VEVENT
DTSTART;VALUE=DATE:20260626
DTEND;VALUE=DATE:20260627
DTSTAMP:20260420T131510
CREATED:20260126T101920Z
LAST-MODIFIED:20260126T101920Z
UID:1968-1782432000-1782518399@mairie-grieges.francelink.fr
SUMMARY:Fête du Groupe Scolaire
DESCRIPTION:
URL:https://mairie-grieges.francelink.fr/event/fete-du-groupe-scolaire/
LOCATION:à l’école
END:VEVENT
BEGIN:VEVENT
DTSTART;TZID=Europe/Paris:20260626T190000
DTEND;TZID=Europe/Paris:20260626T230000
DTSTAMP:20260420T131510
CREATED:20260126T101834Z
LAST-MODIFIED:20260126T101834Z
UID:1966-1782500400-1782514800@mairie-grieges.francelink.fr
SUMMARY:Challenge Broyer - Rozier 64 D (3-4) + N
DESCRIPTION:
URL:https://mairie-grieges.francelink.fr/event/challenge-broyer-rozier-64-d-3-4-n/
LOCATION:boulodrome
END:VEVENT
BEGIN:VEVENT
DTSTART;VALUE=DATE:20260627
DTEND;VALUE=DATE:20260628
DTSTAMP:20260420T131510
CREATED:20260126T101947Z
LAST-MODIFIED:20260126T101947Z
UID:1970-1782518400-1782604799@mairie-grieges.francelink.fr
SUMMARY:Fête de fin d'année ATAZIK
DESCRIPTION:
URL:https://mairie-grieges.francelink.fr/event/fete-de-fin-dannee-atazik/
LOCATION:salle polyvalente
END:VEVENT
BEGIN:VEVENT
DTSTART;VALUE=DATE:20260627
DTEND;VALUE=DATE:20260628
DTSTAMP:20260420T131510
CREATED:20260126T102011Z
LAST-MODIFIED:20260126T102011Z
UID:1972-1782518400-1782604799@mairie-grieges.francelink.fr
SUMMARY:Pétanque de la Chasse
DESCRIPTION:
URL:https://mairie-grieges.francelink.fr/event/petanque-de-la-chasse/
LOCATION:boulodrome
END:VEVENT
END:VCALENDAR