BEGIN:VCALENDAR
VERSION:2.0
PRODID:-//Mairie de Grièges - ECPv6.15.12.2//NONSGML v1.0//EN
CALSCALE:GREGORIAN
METHOD:PUBLISH
X-WR-CALNAME:Mairie de Grièges
X-ORIGINAL-URL:https://mairie-grieges.francelink.fr
X-WR-CALDESC:Évènements pour Mairie de Grièges
REFRESH-INTERVAL;VALUE=DURATION:PT1H
X-Robots-Tag:noindex
X-PUBLISHED-TTL:PT1H
BEGIN:VTIMEZONE
TZID:Europe/Paris
BEGIN:DAYLIGHT
TZOFFSETFROM:+0100
TZOFFSETTO:+0200
TZNAME:CEST
DTSTART:20250330T010000
END:DAYLIGHT
BEGIN:STANDARD
TZOFFSETFROM:+0200
TZOFFSETTO:+0100
TZNAME:CET
DTSTART:20251026T010000
END:STANDARD
BEGIN:DAYLIGHT
TZOFFSETFROM:+0100
TZOFFSETTO:+0200
TZNAME:CEST
DTSTART:20260329T010000
END:DAYLIGHT
BEGIN:STANDARD
TZOFFSETFROM:+0200
TZOFFSETTO:+0100
TZNAME:CET
DTSTART:20261025T010000
END:STANDARD
BEGIN:DAYLIGHT
TZOFFSETFROM:+0100
TZOFFSETTO:+0200
TZNAME:CEST
DTSTART:20270328T010000
END:DAYLIGHT
BEGIN:STANDARD
TZOFFSETFROM:+0200
TZOFFSETTO:+0100
TZNAME:CET
DTSTART:20271031T010000
END:STANDARD
END:VTIMEZONE
BEGIN:VEVENT
DTSTART;VALUE=DATE:20260704
DTEND;VALUE=DATE:20260705
DTSTAMP:20260423T105158
CREATED:20260126T102035Z
LAST-MODIFIED:20260126T102035Z
UID:1974-1783123200-1783209599@mairie-grieges.francelink.fr
SUMMARY:Pétanque de l'Amicale des anciens du CPINI de Grièges
DESCRIPTION:
URL:https://mairie-grieges.francelink.fr/event/petanque-de-lamicale-des-anciens-du-cpini-de-grieges/
LOCATION:boulodrome
END:VEVENT
BEGIN:VEVENT
DTSTART;VALUE=DATE:20260704
DTEND;VALUE=DATE:20260705
DTSTAMP:20260423T105158
CREATED:20260126T102103Z
LAST-MODIFIED:20260126T102103Z
UID:1976-1783123200-1783209599@mairie-grieges.francelink.fr
SUMMARY:50ème anniversaire du Club Cyclo de Grièges
DESCRIPTION:
URL:https://mairie-grieges.francelink.fr/event/50eme-anniversaire-du-club-cyclo-de-grieges/
LOCATION:salle polyvalente
END:VEVENT
BEGIN:VEVENT
DTSTART;VALUE=DATE:20260707
DTEND;VALUE=DATE:20260708
DTSTAMP:20260423T105158
CREATED:20260126T102134Z
LAST-MODIFIED:20260126T102134Z
UID:1978-1783382400-1783468799@mairie-grieges.francelink.fr
SUMMARY:Repas des anciens et Challenge Charvet (vétérans) 32 Q
DESCRIPTION:
URL:https://mairie-grieges.francelink.fr/event/repas-des-anciens-et-challenge-charvet-veterans-32-q/
LOCATION:salle polyvalente
END:VEVENT
BEGIN:VEVENT
DTSTART;TZID=Europe/Paris:20260720T083000
DTEND;TZID=Europe/Paris:20260720T123000
DTSTAMP:20260423T105158
CREATED:20260126T102210Z
LAST-MODIFIED:20260126T102210Z
UID:1980-1784536200-1784550600@mairie-grieges.francelink.fr
SUMMARY:Don du sang
DESCRIPTION:
URL:https://mairie-grieges.francelink.fr/event/don-du-sang-2/
LOCATION:salle annexe de Pont-de-Veyle
END:VEVENT
END:VCALENDAR