BEGIN:VCALENDAR
VERSION:2.0
PRODID:-//Mairie de Grièges - ECPv6.15.12.2//NONSGML v1.0//EN
CALSCALE:GREGORIAN
METHOD:PUBLISH
X-ORIGINAL-URL:https://mairie-grieges.francelink.fr
X-WR-CALDESC:Évènements pour Mairie de Grièges
REFRESH-INTERVAL;VALUE=DURATION:PT1H
X-Robots-Tag:noindex
X-PUBLISHED-TTL:PT1H
BEGIN:VTIMEZONE
TZID:Europe/Paris
BEGIN:DAYLIGHT
TZOFFSETFROM:+0100
TZOFFSETTO:+0200
TZNAME:CEST
DTSTART:20250330T010000
END:DAYLIGHT
BEGIN:STANDARD
TZOFFSETFROM:+0200
TZOFFSETTO:+0100
TZNAME:CET
DTSTART:20251026T010000
END:STANDARD
BEGIN:DAYLIGHT
TZOFFSETFROM:+0100
TZOFFSETTO:+0200
TZNAME:CEST
DTSTART:20260329T010000
END:DAYLIGHT
BEGIN:STANDARD
TZOFFSETFROM:+0200
TZOFFSETTO:+0100
TZNAME:CET
DTSTART:20261025T010000
END:STANDARD
BEGIN:DAYLIGHT
TZOFFSETFROM:+0100
TZOFFSETTO:+0200
TZNAME:CEST
DTSTART:20270328T010000
END:DAYLIGHT
BEGIN:STANDARD
TZOFFSETFROM:+0200
TZOFFSETTO:+0100
TZNAME:CET
DTSTART:20271031T010000
END:STANDARD
END:VTIMEZONE
BEGIN:VEVENT
DTSTART;VALUE=DATE:20260425
DTEND;VALUE=DATE:20260426
DTSTAMP:20260420T052004
CREATED:20260126T100940Z
LAST-MODIFIED:20260126T100940Z
UID:1929-1777075200-1777161599@mairie-grieges.francelink.fr
SUMMARY:AG Cantonaide
DESCRIPTION:
URL:https://mairie-grieges.francelink.fr/event/ag-cantonaide/
END:VEVENT
BEGIN:VEVENT
DTSTART;TZID=Europe/Paris:20260425T143000
DTEND;TZID=Europe/Paris:20260425T173000
DTSTAMP:20260420T052004
CREATED:20260126T100851Z
LAST-MODIFIED:20260126T100851Z
UID:1925-1777127400-1777138200@mairie-grieges.francelink.fr
SUMMARY:Carnaval des écoles
DESCRIPTION:
URL:https://mairie-grieges.francelink.fr/event/carnaval-des-ecoles/
LOCATION:salle polyvalente
END:VEVENT
BEGIN:VEVENT
DTSTART;TZID=Europe/Paris:20260425T143000
DTEND;TZID=Europe/Paris:20260425T173000
DTSTAMP:20260420T052004
CREATED:20260126T100921Z
LAST-MODIFIED:20260126T100921Z
UID:1927-1777127400-1777138200@mairie-grieges.francelink.fr
SUMMARY:Vente à emporter de la Cantine
DESCRIPTION:
URL:https://mairie-grieges.francelink.fr/event/vente-a-emporter-de-la-cantine/
LOCATION:salle polyvalente
END:VEVENT
BEGIN:VEVENT
DTSTART;TZID=Europe/Paris:20260427T150000
DTEND;TZID=Europe/Paris:20260427T190000
DTSTAMP:20260420T052004
CREATED:20260126T101016Z
LAST-MODIFIED:20260126T101016Z
UID:1931-1777302000-1777316400@mairie-grieges.francelink.fr
SUMMARY:Don du sang
DESCRIPTION:
URL:https://mairie-grieges.francelink.fr/event/don-du-sang/
LOCATION:salle annexe de Pont-de-Veyle
END:VEVENT
END:VCALENDAR